BEGIN:VCALENDAR
VERSION:2.0
PRODID:icalendar-ruby
CALSCALE:GREGORIAN
METHOD:PUBLISH
BEGIN:VEVENT
DTSTAMP:20260421T082922Z
UID:7-1372039@hayworthwesleyan.org
DTSTART:20260308T174500Z
DTEND:20260308T184500Z
CLASS:PUBLIC
CREATED:20260420T182436
DESCRIPTION:Contemporary Worship
LAST-MODIFIED:20260420T182436
LOCATION:
SUMMARY:Contemporary Worship
URL;VALUE=URI:https://www.hayworthwesleyan.org/events/contemporary-worship/
 2026-03-08
END:VEVENT
END:VCALENDAR
